BEGIN:VCALENDAR
VERSION:2.0
PRODID:-//Hopefield - ECPv6.15.18//NONSGML v1.0//EN
CALSCALE:GREGORIAN
METHOD:PUBLISH
X-ORIGINAL-URL:https://hopefield.org.au
X-WR-CALDESC:Events for Hopefield
REFRESH-INTERVAL;VALUE=DURATION:PT1H
X-Robots-Tag:noindex
X-PUBLISHED-TTL:PT1H
BEGIN:VTIMEZONE
TZID:Australia/Sydney
BEGIN:STANDARD
TZOFFSETFROM:+1100
TZOFFSETTO:+1000
TZNAME:AEST
DTSTART:20240406T160000
END:STANDARD
BEGIN:DAYLIGHT
TZOFFSETFROM:+1000
TZOFFSETTO:+1100
TZNAME:AEDT
DTSTART:20241005T160000
END:DAYLIGHT
BEGIN:STANDARD
TZOFFSETFROM:+1100
TZOFFSETTO:+1000
TZNAME:AEST
DTSTART:20250405T160000
END:STANDARD
BEGIN:DAYLIGHT
TZOFFSETFROM:+1000
TZOFFSETTO:+1100
TZNAME:AEDT
DTSTART:20251004T160000
END:DAYLIGHT
BEGIN:STANDARD
TZOFFSETFROM:+1100
TZOFFSETTO:+1000
TZNAME:AEST
DTSTART:20260404T160000
END:STANDARD
BEGIN:DAYLIGHT
TZOFFSETFROM:+1000
TZOFFSETTO:+1100
TZNAME:AEDT
DTSTART:20261003T160000
END:DAYLIGHT
END:VTIMEZONE
BEGIN:VTIMEZONE
TZID:Australia/Melbourne
BEGIN:STANDARD
TZOFFSETFROM:+1100
TZOFFSETTO:+1000
TZNAME:AEST
DTSTART:20240406T160000
END:STANDARD
BEGIN:DAYLIGHT
TZOFFSETFROM:+1000
TZOFFSETTO:+1100
TZNAME:AEDT
DTSTART:20241005T160000
END:DAYLIGHT
BEGIN:STANDARD
TZOFFSETFROM:+1100
TZOFFSETTO:+1000
TZNAME:AEST
DTSTART:20250405T160000
END:STANDARD
BEGIN:DAYLIGHT
TZOFFSETFROM:+1000
TZOFFSETTO:+1100
TZNAME:AEDT
DTSTART:20251004T160000
END:DAYLIGHT
BEGIN:STANDARD
TZOFFSETFROM:+1100
TZOFFSETTO:+1000
TZNAME:AEST
DTSTART:20260404T160000
END:STANDARD
BEGIN:DAYLIGHT
TZOFFSETFROM:+1000
TZOFFSETTO:+1100
TZNAME:AEDT
DTSTART:20261003T160000
END:DAYLIGHT
END:VTIMEZONE
BEGIN:VEVENT
DTSTART;TZID=Australia/Sydney:20250614T143000
DTEND;TZID=Australia/Sydney:20250614T170000
DTSTAMP:20260425T222626
CREATED:20250211T044034Z
LAST-MODIFIED:20250417T001814Z
UID:1553-1749911400-1749920400@hopefield.org.au
SUMMARY:Hopefield's 30th Celebration
DESCRIPTION:
URL:https://hopefield.org.au/events/30-year-celebration/
LOCATION:Gymea Baptist Church\, 2-10 Tea Gardens Ave\, Kirrawee\, NSW\, 2232\, Australia
END:VEVENT
BEGIN:VEVENT
DTSTART;TZID=Australia/Melbourne:20250618T110000
DTEND;TZID=Australia/Melbourne:20250618T130000
DTSTAMP:20260425T222626
CREATED:20230820T044344Z
LAST-MODIFIED:20250312T042946Z
UID:932-1750244400-1750251600@hopefield.org.au
SUMMARY:Black Box Parenting Program
DESCRIPTION:FREE at Hopefield Kirrawee Community Hub \nA strengths-based parenting program supporting the unique needs of women who have experienced trauma and abuse. \nThe program covers understanding the impact of trauma on parenting; learning coping strategies for managing triggers; and simple ways to build connection and trust with your kids. \nThis course will run between April 30th and June 25th. \nTo enquire about participating please call us on 9545 0299.
URL:https://hopefield.org.au/events/blackboxparenting/
LOCATION:Hopefield Kirrawee\, 2-4 Tea Gardens Ave\, Kirrawee\, NSW\, 2232\, Australia
CATEGORIES:Therapeutic Groups
ATTACH;FMTTYPE=image/jpeg:https://hopefield.org.au/wp-content/uploads/2022/10/Black-Box-scaled.jpg
END:VEVENT
BEGIN:VEVENT
DTSTART;TZID=Australia/Sydney:20250625T110000
DTEND;TZID=Australia/Sydney:20250625T130000
DTSTAMP:20260425T222626
CREATED:20240313T022421Z
LAST-MODIFIED:20250312T042917Z
UID:1296-1750849200-1750856400@hopefield.org.au
SUMMARY:Black Box Parenting Program
DESCRIPTION:FREE at Hopefield Kirrawee Community Hub \nA strengths-based parenting program supporting the unique needs of women who have experienced trauma and abuse. \nThe program covers understanding the impact of trauma on parenting; learning coping strategies for managing triggers; and simple ways to build connection and trust with your kids. \nThis course will run between April 30th and June 25th. \nTo enquire about participating please call us on 9545 0299.
URL:https://hopefield.org.au/events/black-box-parenting-program/
LOCATION:Hopefield Kirrawee\, 2-4 Tea Gardens Ave\, Kirrawee\, NSW\, 2232\, Australia
CATEGORIES:Therapeutic Groups
ATTACH;FMTTYPE=image/jpeg:https://hopefield.org.au/wp-content/uploads/2022/10/Black-Box-scaled.jpg
END:VEVENT
END:VCALENDAR