BEGIN:VCALENDAR
VERSION:2.0
PRODID:-//Hopefield - ECPv6.15.18//NONSGML v1.0//EN
CALSCALE:GREGORIAN
METHOD:PUBLISH
X-WR-CALNAME:Hopefield
X-ORIGINAL-URL:https://hopefield.org.au
X-WR-CALDESC:Events for Hopefield
REFRESH-INTERVAL;VALUE=DURATION:PT1H
X-Robots-Tag:noindex
X-PUBLISHED-TTL:PT1H
BEGIN:VTIMEZONE
TZID:Australia/Sydney
BEGIN:STANDARD
TZOFFSETFROM:+1100
TZOFFSETTO:+1000
TZNAME:AEST
DTSTART:20250405T160000
END:STANDARD
BEGIN:DAYLIGHT
TZOFFSETFROM:+1000
TZOFFSETTO:+1100
TZNAME:AEDT
DTSTART:20251004T160000
END:DAYLIGHT
BEGIN:STANDARD
TZOFFSETFROM:+1100
TZOFFSETTO:+1000
TZNAME:AEST
DTSTART:20260404T160000
END:STANDARD
BEGIN:DAYLIGHT
TZOFFSETFROM:+1000
TZOFFSETTO:+1100
TZNAME:AEDT
DTSTART:20261003T160000
END:DAYLIGHT
BEGIN:STANDARD
TZOFFSETFROM:+1100
TZOFFSETTO:+1000
TZNAME:AEST
DTSTART:20270403T160000
END:STANDARD
BEGIN:DAYLIGHT
TZOFFSETFROM:+1000
TZOFFSETTO:+1100
TZNAME:AEDT
DTSTART:20271002T160000
END:DAYLIGHT
END:VTIMEZONE
BEGIN:VEVENT
DTSTART;TZID=Australia/Sydney:20260424T100000
DTEND;TZID=Australia/Sydney:20260424T113000
DTSTAMP:20260425T204512
CREATED:20231003T003531Z
LAST-MODIFIED:20260312T102840Z
UID:1163-1777024800-1777030200@hopefield.org.au
SUMMARY:Hopefield Community Hub: Friday Women's Connection
DESCRIPTION:Women’s Connection is an open group that involves wellbeing and social connection activities. All women welcome. Temporarily hosted at Hopefield Cronulla. \nTo enquire about attending please call 9545 0299 or email admin@hopefield.org.au.
URL:https://hopefield.org.au/events/friday-womens-connection/
LOCATION:Hopefield Cronulla\, 9-11 Gosport Street\, Cronulla\, NSW\, 2230\, Australia
CATEGORIES:Social Connections
ATTACH;FMTTYPE=image/jpeg:https://hopefield.org.au/wp-content/uploads/2023/09/Womens-connect.jpg
END:VEVENT
END:VCALENDAR