BEGIN:VCALENDAR
VERSION:2.0
PRODID:-//Hopefield - ECPv6.15.18//NONSGML v1.0//EN
CALSCALE:GREGORIAN
METHOD:PUBLISH
X-WR-CALNAME:Hopefield
X-ORIGINAL-URL:https://hopefield.org.au
X-WR-CALDESC:Events for Hopefield
REFRESH-INTERVAL;VALUE=DURATION:PT1H
X-Robots-Tag:noindex
X-PUBLISHED-TTL:PT1H
BEGIN:VTIMEZONE
TZID:Australia/Sydney
BEGIN:STANDARD
TZOFFSETFROM:+1100
TZOFFSETTO:+1000
TZNAME:AEST
DTSTART:20250405T160000
END:STANDARD
BEGIN:DAYLIGHT
TZOFFSETFROM:+1000
TZOFFSETTO:+1100
TZNAME:AEDT
DTSTART:20251004T160000
END:DAYLIGHT
BEGIN:STANDARD
TZOFFSETFROM:+1100
TZOFFSETTO:+1000
TZNAME:AEST
DTSTART:20260404T160000
END:STANDARD
BEGIN:DAYLIGHT
TZOFFSETFROM:+1000
TZOFFSETTO:+1100
TZNAME:AEDT
DTSTART:20261003T160000
END:DAYLIGHT
BEGIN:STANDARD
TZOFFSETFROM:+1100
TZOFFSETTO:+1000
TZNAME:AEST
DTSTART:20270403T160000
END:STANDARD
BEGIN:DAYLIGHT
TZOFFSETFROM:+1000
TZOFFSETTO:+1100
TZNAME:AEDT
DTSTART:20271002T160000
END:DAYLIGHT
END:VTIMEZONE
BEGIN:VEVENT
DTSTART;TZID=Australia/Sydney:20260409T154500
DTEND;TZID=Australia/Sydney:20260409T170000
DTSTAMP:20260420T084206
CREATED:20230920T024925Z
LAST-MODIFIED:20260301T235856Z
UID:1189-1775749500-1775754000@hopefield.org.au
SUMMARY:Hopefield Community Hub: Mates and Mugs
DESCRIPTION:Supporting Men’s Social Connectivity\, Mates and Mugs is a social group that meets weekly at Hopefield Cronulla. It aims to provide a safe\, supportive\, relaxed\, and welcoming space for men to feel supported\, heard and connected. Mates and Mugs enables men to grow\, learn and build friendships with one another\, leading to improved mental health\, greater personal and professional success\, and a stronger sense of purpose and fulfillment in life.  \nTo enquire about participating and join the invitation list please email admin@hopefield.org.au or call us on 9545 0299. \n \n 
URL:https://hopefield.org.au/events/hopefield-community-hub-mates-and-mugs-5/
LOCATION:Cronulla Hopefield\, 6 Gosport Street\, Cronulla\, NSW\, 2230\, Australia
CATEGORIES:Social Connections
ATTACH;FMTTYPE=image/jpeg:https://hopefield.org.au/wp-content/uploads/2023/09/centre-for-ageing-better-xikSJt7mr9E-unsplash.jpg
END:VEVENT
END:VCALENDAR