BEGIN:VCALENDAR
VERSION:2.0
PRODID:-//Hopefield - ECPv6.15.18//NONSGML v1.0//EN
CALSCALE:GREGORIAN
METHOD:PUBLISH
X-WR-CALNAME:Hopefield
X-ORIGINAL-URL:https://hopefield.org.au
X-WR-CALDESC:Events for Hopefield
REFRESH-INTERVAL;VALUE=DURATION:PT1H
X-Robots-Tag:noindex
X-PUBLISHED-TTL:PT1H
BEGIN:VTIMEZONE
TZID:Australia/Sydney
BEGIN:STANDARD
TZOFFSETFROM:+1100
TZOFFSETTO:+1000
TZNAME:AEST
DTSTART:20250405T160000
END:STANDARD
BEGIN:DAYLIGHT
TZOFFSETFROM:+1000
TZOFFSETTO:+1100
TZNAME:AEDT
DTSTART:20251004T160000
END:DAYLIGHT
BEGIN:STANDARD
TZOFFSETFROM:+1100
TZOFFSETTO:+1000
TZNAME:AEST
DTSTART:20260404T160000
END:STANDARD
BEGIN:DAYLIGHT
TZOFFSETFROM:+1000
TZOFFSETTO:+1100
TZNAME:AEDT
DTSTART:20261003T160000
END:DAYLIGHT
BEGIN:STANDARD
TZOFFSETFROM:+1100
TZOFFSETTO:+1000
TZNAME:AEST
DTSTART:20270403T160000
END:STANDARD
BEGIN:DAYLIGHT
TZOFFSETFROM:+1000
TZOFFSETTO:+1100
TZNAME:AEDT
DTSTART:20271002T160000
END:DAYLIGHT
END:VTIMEZONE
BEGIN:VEVENT
DTSTART;TZID=Australia/Sydney:20260407T100000
DTEND;TZID=Australia/Sydney:20260407T113000
DTSTAMP:20260420T084138
CREATED:20230921T034659Z
LAST-MODIFIED:20260301T235951Z
UID:1210-1775556000-1775561400@hopefield.org.au
SUMMARY:Hopefield Community Hub: Women’s Connection Cronulla
DESCRIPTION:Hosted at Hopefield Cronulla every Tuesday\, Women’s Connection is an open group that involves wellbeing and social connection activities. \nWomen’s Connection provides a safe welcoming space where women can gather to share their stories and find common ground through playing games and building supportive relationships of trust. The group aims to build mutual empowerment and improve overall wellbeing. \nAll women welcome. To enquire about attending please call 9545 0299 or email admin@hopefield.org.au.
URL:https://hopefield.org.au/events/hopefield-community-hub-womens-connection-cronulla-7/
LOCATION:Cronulla Hopefield\, 6 Gosport Street\, Cronulla\, NSW\, 2230\, Australia
CATEGORIES:Social Connections
ATTACH;FMTTYPE=image/jpeg:https://hopefield.org.au/wp-content/uploads/2023/09/marilia-castelli-VcLkOr6G3is-unsplash.jpg
END:VEVENT
BEGIN:VEVENT
DTSTART;TZID=Australia/Sydney:20260407T100000
DTEND;TZID=Australia/Sydney:20260407T140000
DTSTAMP:20260420T084138
CREATED:20230921T035431Z
LAST-MODIFIED:20260215T224549Z
UID:1211-1775556000-1775570400@hopefield.org.au
SUMMARY:Hopefield Community Hub: Mens Connect April
DESCRIPTION:Supporting Men’s Social Connectivity\, Men’s Connect is a social group enabling men to come together to share their stories\, challenges\, and successes\, and build supportive relationships of trust. This safe and welcoming space leads to mutual empowerment and overall wellbeing. This group meets once a month at a different location. \nTo register your interest please call us on 9545 0299 or email admin@hopefield.org.au.
URL:https://hopefield.org.au/events/hopefield-community-hub-mens-connect-may/
CATEGORIES:Social Connections
ATTACH;FMTTYPE=image/jpeg:https://hopefield.org.au/wp-content/uploads/2023/09/pexels-jorge-alvarez-lecaros-2750174.jpg
END:VEVENT
END:VCALENDAR